BEGIN:VCALENDAR
VERSION:2.0
PRODID:-//hacksw/handcal//NONSGML v1.0//EN
CALSCALE:GREGORIAN
BEGIN:VEVENT
DTEND:20250817T233000Z
UID: 69e693ac82ab8
DTSTAMP:20260420T155924Z
LOCATION:
DESCRIPTION:The community is invited to experience an evening of bold storytelling and cinematic creativity of the Augustana College Student Film Award Showcase\, featuring original\, short films by students in the college’s film program.This year’s showcase offers eight films that encompass a dynamic mix of genres\, ranging from gripping crime dramas and moody noir to laugh-out-loud comedies\, powerful documentaries\, and evocative historical narratives. Each film reflects months of writing\, production\, editing\, and collaboration that encompasses all three levels of production in the film program at Augustana College.The screening not only celebrates the diverse voices and perspectives of Augustana’s student filmmakers\, but also highlights the growing impact of the college’s film program in preparing students for careers in the film and media industries. Moderated by Assoc. Prof. Stacy Barton\, Augustana Film Program Director. A Q&amp\;A will follow the screening that will include State of Illinois Film Office Deputy Peter Hawley and Documentary Filmmaker Edgar Barens.Total time: 90 minutes.About Alternating CurrentsFounded in 2017 by the Downtown Davenport Partnership (DDP)\, Alternating Currents is a free\, multi-day festival powered by DDP in collaboration with placemaking partners Downtown Bettendorf Organization and Rock Island Downtown Alliance. With hundreds of events spanning music\, film\, comedy\, and visual art\, AC transforms downtown spaces into creative playgrounds for all.
URL;VALUE=URI:https://www.augustana.edu/about-us/events/2025/student-film-award-showcase-alternating-currents
SUMMARY:Student Film Award Showcase at Alternating Currents
DTSTART:20250817T233000Z
END:VEVENT
END:VCALENDAR
