BEGIN:VCALENDAR
VERSION:2.0
PRODID:-//hacksw/handcal//NONSGML v1.0//EN
CALSCALE:GREGORIAN
BEGIN:VEVENT
DTEND:20260119T150000Z
UID: 69e6544c67d64
DTSTAMP:20260420T112900Z
LOCATION:
DESCRIPTION:A Viking Visit is for non-applied students\, high school juniors and sophomores. Spend the day exploring campus on a student-led tour\, learn about the admissions and financial aid process and hear from CORE about how they connect students with ways to achieve their career goals. → Sign up for a Viking VisitAn Instant Decision Day is applied students. Students who complete their Fall 2026 admission application one week prior to their visit will receive their admission decision in-person during their visit. Students will also explore campus on a student-led tour\, enjoy lunch in the dining hall and learn what it is like to be a Viking during a student panel discussion. → Sign up for Instant Decision Day
URL;VALUE=URI:https://www.augustana.edu/about-us/events/2026/viking-visit-and-instant-decision-day
SUMMARY:Viking Visit and Instant Decision Day
DTSTART:20260119T150000Z
END:VEVENT
END:VCALENDAR
