BEGIN:VCALENDAR
VERSION:2.0
PRODID:-//hacksw/handcal//NONSGML v1.0//EN
CALSCALE:GREGORIAN
BEGIN:VEVENT
DTEND:20260510T000000Z
UID: 69e653e860d3e
DTSTAMP:20260420T112720Z
LOCATION:Centennial Hall
DESCRIPTION:The Augustana Symphonic Band\, directed by Dr. James Lambrecht\, will perform.
URL;VALUE=URI:https://www.augustana.edu/about-us/events/2026/augustana-symphonic-band-concert
SUMMARY:Augustana Symphonic Band concert
DTSTART:20260510T000000Z
END:VEVENT
END:VCALENDAR
