BEGIN:VCALENDAR
VERSION:2.0
PRODID:-//hacksw/handcal//NONSGML v1.0//EN
CALSCALE:GREGORIAN
BEGIN:VEVENT
DTEND:20260503T000000Z
UID: 69e65da814788
DTSTAMP:20260420T120856Z
LOCATION:Centennial Hall
DESCRIPTION:The Augustana Symphony Orchestra will perform.
URL;VALUE=URI:https://www.augustana.edu/about-us/events/2026/augustana-symphony-orchestra-concert-0
SUMMARY:Augustana Symphony Orchestra concert
DTSTART:20260503T000000Z
END:VEVENT
END:VCALENDAR
