BEGIN:VCALENDAR
VERSION:2.0
PRODID:-//hacksw/handcal//NONSGML v1.0//EN
CALSCALE:GREGORIAN
BEGIN:VEVENT
DTEND:20260720T140000Z
UID: 69e65d8d3753e
DTSTAMP:20260420T120829Z
LOCATION:The Gerber Center for Student Life
DESCRIPTION:Learn about Augustana's mission and values\, life on our beautiful campus\, careers and study abroad\, the Quad Cities\, admissions and financial aid. Our student tour guides can talk about what life is like as an Augustana Viking!Your day will begin at 9 a.m. and end at 12 p.m.2026 visit days are June 22\, June 29\, July 13\, July 20 and July 27.
URL;VALUE=URI:https://www.augustana.edu/about-us/events/2026/summer-visit-day-jul20
SUMMARY:Summer Visit Day
DTSTART:20260720T140000Z
END:VEVENT
END:VCALENDAR
