BEGIN:VCALENDAR
VERSION:2.0
PRODID:-//hacksw/handcal//NONSGML v1.0//EN
CALSCALE:GREGORIAN
BEGIN:VEVENT
DTEND:20170423T180000Z
UID: 69e922bc9c86b
DTSTAMP:20260422T143420Z
LOCATION:Softball Field
DESCRIPTION:The Augustana Vikings will take on the North Park Vikings at home in a double header. Games begin at 1:00 and 3:00.&nbsp\;\n\nFind live stats&nbsp\;here.\n\nWebsite:&nbsp\;http://athletics.augustana.edu/index.aspx?path=softball\n
URL;VALUE=URI:https://www.augustana.edu/about-us/events/2017/softball-vs-north-park
SUMMARY:Softball vs. North Park
DTSTART:20170423T180000Z
END:VEVENT
END:VCALENDAR
