BEGIN:VCALENDAR
VERSION:2.0
PRODID:-//hacksw/handcal//NONSGML v1.0//EN
CALSCALE:GREGORIAN
BEGIN:VEVENT
DTEND:20251029T003000Z
UID: 69e6713f67abe
DTSTAMP:20260420T133231Z
LOCATION:Wallenberg Hall\, Denkmann Memorial Building
DESCRIPTION:The Augustana Jazz Combos will perform\, directed by Dr. Joel Linscheid.Combo 1"Manaus\," by John Fedchock"Mirrors (We All Need)\," by Bobby Watson"Little Man\," by Charles FambroughCombo 2"Grove’s Groove\," by Steve Davis"Once Forgotten\," by Pamela Baskin Watson"The Hardbop Grandpop\," by Horace SilverCombo 3"Lady Bird\," by Tadd Dameron arr. Bob Mintzer"Alter Ego\," by James Williams"Song For My Father\," by Horace Silver&nbsp\;&nbsp\;
URL;VALUE=URI:https://www.augustana.edu/about-us/events/2025/augustana-jazz-combos-concert-0
SUMMARY:Augustana Jazz Combos concert
DTSTART:20251029T003000Z
END:VEVENT
END:VCALENDAR
