BEGIN:VCALENDAR
VERSION:2.0
PRODID:-//hacksw/handcal//NONSGML v1.0//EN
CALSCALE:GREGORIAN
BEGIN:VEVENT
DTEND:20251103T013000Z
UID: 69e66ce94af46
DTSTAMP:20260420T131401Z
LOCATION:Brunner Theatre Center
DESCRIPTION:This performance is sold out.&nbsp\;The Augustana College Department of Theatre and Film presents "Edges\," Oct. 30-Nov. 2. &nbsp\;The play is directed by Kaden Micklos '26."Edges" is a song cycle by Benj Pasek and Justin Paul ("Dear Evan Hansen"\, "The Greatest Showman"\, "La La Land"). Written when they were just 19\, it’s a witty and heartfelt exploration of coming-of-age\, relationships\, self-discovery\, and the messy in-betweens of early adulthood. Through a mix of humor\, vulnerability\, and soaring contemporary music\, the show captures what it means to stand at the “edges” of life’s big decisions.All performances are in the Honkamp Myhre Blackbox. Tickets are $10\; or $7 for senior citizens\; free for Augustana students\; $5 for faculty and staff\, students and children.
URL;VALUE=URI:https://www.augustana.edu/about-us/events/2025/edges-sun
SUMMARY:'Edges'
DTSTART:20251103T013000Z
END:VEVENT
END:VCALENDAR
