BEGIN:VCALENDAR
VERSION:2.0
PRODID:-//hacksw/handcal//NONSGML v1.0//EN
CALSCALE:GREGORIAN
BEGIN:VEVENT
DTEND:20251025T190000Z
UID: 69e670e3bb9a8
DTSTAMP:20260420T133059Z
LOCATION:Centennial Hall
DESCRIPTION:The Jenny Lind Vocal Ensemble and Concert Chorale will perform\, directed by Dr. Michael Zemek and Benjamin Holmes.Jenny Lind Vocal Ensemble will perform:"Non Nobis\, Domine" by Rosephanye Powell&nbsp\;"Songs for the People" by Regional Wright\, 2025 Treble Choir Commission Consortium of the American Choral Directors Association"In Her Image" by Katerina Gimon&nbsp\;"What Wondrous Love" by Rachel A. Oxley&nbsp\;"You Do Not Walk Alone" by Elaine Hagenberg&nbsp\;"Paper Crane" by J. Reese Norris&nbsp\;Augustana Concert Chorale will perform"Measure Me Sky" by Jonathan Reid"Il Lampo" by Ryan Main"A Lullaby" by Ryan Murphy"I’ll Be On My Way" by Shawn Kirchner&nbsp\;Soloist Maya Pagel '26
URL;VALUE=URI:https://www.augustana.edu/about-us/events/2025/jenny-lind-vocal-ensemble-and-concert-chorale-concert-0
SUMMARY:Jenny Lind Vocal Ensemble and Concert Chorale concert
DTSTART:20251025T190000Z
END:VEVENT
END:VCALENDAR
