BEGIN:VCALENDAR
VERSION:2.0
PRODID:-//hacksw/handcal//NONSGML v1.0//EN
CALSCALE:GREGORIAN
BEGIN:VEVENT
DTEND:20251025T003000Z
UID: 69e66cc404de2
DTSTAMP:20260420T131324Z
LOCATION:Centennial Hall
DESCRIPTION:The Augustana Jazz Ensemble and Augustana Jazz Lab will perform\, directed by Dr. Joel Linscheid.The Augustana Jazz Lab Band will perform:&nbsp\;"Front Burner" by Sammy Nestico&nbsp\;"Gentle Rain" by Luis Bonfa arr. Lisa DeSpain"Softly\, As in a Morning Sunrise" by Romberg and Hammerstein arr. Paul Baker.&nbsp\;The Augustana Jazz Lab Band will perform:"Vine Street Rumble" by Benny Carter"Invitation" by Bronislau Kaper arr. Frank Mantooth"Do Nothing Till You Hear From Me" by Duke Ellington and Bob Russell arr. John Clayton"Finderwimens" by Matt Finders arr. Jessika Smith"Corner Pocket" by Freddie Greene arr. Ernie Wilkins"Kaleidoscope" by Skylar Tank"Good Morning Heartache" by Irene Higginbotham\, Ervin Drake\, and Dan Fisher arr. Vincent Herring and Brian Lawrence"Shade of Jade" by Joe Henderson arr. Alan Baylock&nbsp\;&nbsp\;&nbsp\;&nbsp\;&nbsp\;
URL;VALUE=URI:https://www.augustana.edu/about-us/events/2025/augustana-jazz-ensembles
SUMMARY:Augustana Jazz Ensembles
DTSTART:20251025T003000Z
END:VEVENT
END:VCALENDAR
