BEGIN:VCALENDAR
VERSION:2.0
PRODID:-//hacksw/handcal//NONSGML v1.0//EN
CALSCALE:GREGORIAN
BEGIN:VEVENT
DTEND:20251012T000000Z
UID: 69e67111521b8
DTSTAMP:20260420T133145Z
LOCATION:Centennial Hall
DESCRIPTION:We invite you to join the Augustana Symphony Orchestra for an evening of spirited music! The&nbsp\;concert will feature works by Bizet\, Sibelius\, Rutter and Márquez. &nbsp\;The Orchestra is conducted by Dr. Hisham Bravo Groover.&nbsp\;
URL;VALUE=URI:https://www.augustana.edu/about-us/events/2025/augustana-symphony-orchestra-concert-1
SUMMARY:Augustana Symphony Orchestra concert
DTSTART:20251012T000000Z
END:VEVENT
END:VCALENDAR
