BEGIN:VCALENDAR
VERSION:2.0
PRODID:-//hacksw/handcal//NONSGML v1.0//EN
CALSCALE:GREGORIAN
BEGIN:VEVENT
DTEND:20251005T000000Z
UID: 69e6713f6a628
DTSTAMP:20260420T133231Z
LOCATION:Centennial Hall
DESCRIPTION:The Augustana Symphonic Band\, directed by Dr. James Lambrecht\, will perform.
URL;VALUE=URI:https://www.augustana.edu/about-us/events/2025/augustana-symphonic-band-concert-1
SUMMARY:Augustana Symphonic Band concert
DTSTART:20251005T000000Z
END:VEVENT
END:VCALENDAR
