BEGIN:VCALENDAR
VERSION:2.0
PRODID:-//hacksw/handcal//NONSGML v1.0//EN
CALSCALE:GREGORIAN
BEGIN:VEVENT
DTEND:20250829T180000Z
UID: 69ea1b3d62090
DTSTAMP:20260423T081437Z
LOCATION:Lower Quad
DESCRIPTION:Opening Convocation marks the official start of the academic year. New students and families will join President Andrea Talentino as she addresses the incoming students and welcomes them to the college.
URL;VALUE=URI:https://www.augustana.edu/about-us/events/2025/opening-convocation-2025
SUMMARY:Opening Convocation 2025
DTSTART:20250829T180000Z
END:VEVENT
END:VCALENDAR
