BEGIN:VCALENDAR
VERSION:2.0
PRODID:-//hacksw/handcal//NONSGML v1.0//EN
CALSCALE:GREGORIAN
BEGIN:VEVENT
DTEND:20251002T003000Z
UID: 69e66edbd3178
DTSTAMP:20260420T132219Z
LOCATION:Hanson Hall of Science
DESCRIPTION:Dr. Danielle Fatkin\, associate professor of history at Knox College\, will present a lecture titled "Understanding Baptism: Its Origins in Roman Judaea and Why They Matter."Baptism is an important part of the Christian tradition with roots in the beliefs of Second Temple Judaism (538 B.C.E. – 70 C.E.). This talk reviews the physical remains of ancient Jewish ritual baths to illustrate how the culture and politics of first century Judaea influenced this important rite of modern Christianity and associated rituals in modern Judaism.
URL;VALUE=URI:https://www.augustana.edu/about-us/events/2025/guest-speaker-dr-danielle-fatkin
SUMMARY:Guest speaker: Dr. Danielle Fatkin
DTSTART:20251002T003000Z
END:VEVENT
END:VCALENDAR
