BEGIN:VCALENDAR
VERSION:2.0
PRODID:-//hacksw/handcal//NONSGML v1.0//EN
CALSCALE:GREGORIAN
BEGIN:VEVENT
DTEND:20250518T000000Z
UID: 69e66cc404c96
DTSTAMP:20260420T131324Z
LOCATION:Centennial Hall
DESCRIPTION:Join us for a powerful evening with nationally recognized speaker and suicide prevention advocate Kevin Hines\, who shares his inspiring story of resilience and hope. This free and public event is sponsored by The Gray Matters Collective.
URL;VALUE=URI:https://www.augustana.edu/about-us/events/2025/guest-speaker-kevin-hines
SUMMARY:Guest speaker: Kevin Hines
DTSTART:20250518T000000Z
END:VEVENT
END:VCALENDAR
