BEGIN:VCALENDAR
VERSION:2.0
PRODID:-//hacksw/handcal//NONSGML v1.0//EN
CALSCALE:GREGORIAN
BEGIN:VEVENT
DTEND:20250416T230000Z
UID: 69e66ca0a293a
DTSTAMP:20260420T131248Z
LOCATION:Olin Center for Educational Technology
DESCRIPTION:In honor of Sexual Assault Awareness Month\, join us to view this compelling documentary.&nbsp\;Advocates from Family Resources will be present.About Victim/Suspect: When a journalist digs into a case of a woman charged with falsely reporting a rape\, a pattern emerges: authorities turning the tables on victims. → See on Netflix
URL;VALUE=URI:https://www.augustana.edu/about-us/events/2025/documentary-victimsuspect
SUMMARY:Documentary: 'Victim/Suspect'
DTSTART:20250416T230000Z
END:VEVENT
END:VCALENDAR
