BEGIN:VCALENDAR
VERSION:2.0
PRODID:-//hacksw/handcal//NONSGML v1.0//EN
CALSCALE:GREGORIAN
BEGIN:VEVENT
DTEND:20250425T213000Z
UID: 69e897e2b9878
DTSTAMP:20260422T044154Z
LOCATION:Swenson Hall of Geosciences
DESCRIPTION:Udden Geology Club meets weekly for presentations and discussions on a range of topics to help develop student interest in the broader geosciences. This week\, three seniors will give their Senior Inquiry presentations. Learn about how these students used geoscience techniques to advance aquatic habitat health!→ See more Earth Week events
URL;VALUE=URI:https://www.augustana.edu/about-us/events/2025/udden-geology-club-meeting
SUMMARY:Udden Geology Club meeting
DTSTART:20250425T213000Z
END:VEVENT
END:VCALENDAR
