BEGIN:VCALENDAR
VERSION:2.0
PRODID:-//hacksw/handcal//NONSGML v1.0//EN
CALSCALE:GREGORIAN
BEGIN:VEVENT
DTEND:20250424T210000Z
UID: 69e5fc010945c
DTSTAMP:20260420T051217Z
LOCATION:Peter J. Lindberg\, M.D.\, Center for Health and Human Performance
DESCRIPTION:Join Augie Acres and the Student Government Association to learn about the role pollinators play in gardens\, and how they can be supported through promoting native vegetation. Participants will make seed bombs to distribute at Augie Acres. Refreshments will be provided.→ See more Earth Week events
URL;VALUE=URI:https://www.augustana.edu/about-us/events/2025/native-pollinator-workshop
SUMMARY:Native Pollinator Workshop
DTSTART:20250424T210000Z
END:VEVENT
END:VCALENDAR
