BEGIN:VCALENDAR
VERSION:2.0
PRODID:-//hacksw/handcal//NONSGML v1.0//EN
CALSCALE:GREGORIAN
BEGIN:VEVENT
DTEND:20250423T150000Z
UID: 69e5fc08b0e1b
DTSTAMP:20260420T051224Z
LOCATION:Viking Plaza
DESCRIPTION:Organized by the Sierra Club and Campus Closet\, this event gives students an opportunity to browse through secondhand clothes to take home for free! Students are also encouraged to bring their own clothes\, accessories and shoes that they would like to donate. (Donate clothing and accessories that are in good condition and have been washed prior to donating.)Swapping clothes with others saves money\, avoids waste and reduces the demand for raw materials.This event will run from 10 a.m.-4 p.m. in the Quad.→ See more Earth Week events
URL;VALUE=URI:https://www.augustana.edu/about-us/events/2025/swap-dont-shop
SUMMARY:Swap Don't Shop
DTSTART:20250423T150000Z
END:VEVENT
END:VCALENDAR
