BEGIN:VCALENDAR
VERSION:2.0
PRODID:-//hacksw/handcal//NONSGML v1.0//EN
CALSCALE:GREGORIAN
BEGIN:VEVENT
DTEND:20250422T230000Z
UID: 69e5fc08a3be2
DTSTAMP:20260420T051224Z
LOCATION:
DESCRIPTION:Join OSID and Sierra Club in planting various flora at each of the culture houses. There will be a potting and seeding station so students can take home their own plants.→ See more Earth Week events
URL;VALUE=URI:https://www.augustana.edu/about-us/events/2025/blossom-diversity
SUMMARY:Blossom in Diversity
DTSTART:20250422T230000Z
END:VEVENT
END:VCALENDAR
