BEGIN:VCALENDAR
VERSION:2.0
PRODID:-//hacksw/handcal//NONSGML v1.0//EN
CALSCALE:GREGORIAN
BEGIN:VEVENT
DTEND:20250408T213000Z
UID: 69e986b83f583
DTSTAMP:20260422T214056Z
LOCATION:Bahls Campus Leadership Center
DESCRIPTION:
URL;VALUE=URI:https://www.augustana.edu/about-us/events/2025/nourish-flourish-cooking-class
SUMMARY:Nourish to Flourish cooking class
DTSTART:20250408T213000Z
END:VEVENT
END:VCALENDAR
