BEGIN:VCALENDAR
VERSION:2.0
PRODID:-//hacksw/handcal//NONSGML v1.0//EN
CALSCALE:GREGORIAN
BEGIN:VEVENT
DTEND:20250403T000000Z
UID: 69e683f8efa02
DTSTAMP:20260420T145224Z
LOCATION:Peter J. Lindberg\, M.D.\, Center for Health and Human Performance
DESCRIPTION:
URL;VALUE=URI:https://www.augustana.edu/about-us/events/2025/spring-lecture-lydia-olsson-and-women-augustana-1890s
SUMMARY:Spring Lecture: Lydia Olsson and the Women of Augustana in the 1890s
DTSTART:20250403T000000Z
END:VEVENT
END:VCALENDAR
