BEGIN:VCALENDAR
VERSION:2.0
PRODID:-//hacksw/handcal//NONSGML v1.0//EN
CALSCALE:GREGORIAN
BEGIN:VEVENT
DTEND:20250319T180000Z
UID: 69e69547c2cb9
DTSTAMP:20260420T160615Z
LOCATION:The Gerber Center for Student Life
DESCRIPTION:World Relief staff members and professors will discuss the history of refugee resettlement in the Quad Cities and the impact of recent executive actions on the refugee community. The panel will also provide information about how students can support and volunteer with World Relief Quad Cities.Co-sponsored by CORE and OISSS.
URL;VALUE=URI:https://www.augustana.edu/about-us/events/2025/supporting-refugees-quad-cities
SUMMARY:Supporting Refugees in the Quad Cities
DTSTART:20250319T180000Z
END:VEVENT
END:VCALENDAR
