BEGIN:VCALENDAR
VERSION:2.0
PRODID:-//hacksw/handcal//NONSGML v1.0//EN
CALSCALE:GREGORIAN
BEGIN:VEVENT
DTEND:20250313T170000Z
UID: 69e694efcb7e2
DTSTAMP:20260420T160447Z
LOCATION:Viking Plaza
DESCRIPTION:"Let's bARTer" is pop up "shop" where ART-377 students will share artwork to be bartered in exchange for ANY physical item the public provides instead of money. This is meant to show that art should be accessible to everybody. This event will be hosted Wednesday 1-4 p.m.\, Thursday 12-2 p.m. and Friday 12-2 p.m. on the quad.
URL;VALUE=URI:https://www.augustana.edu/about-us/events/2025/lets-barter-thurs
SUMMARY:'Let's bARTer'
DTSTART:20250313T170000Z
END:VEVENT
END:VCALENDAR
