BEGIN:VCALENDAR
VERSION:2.0
PRODID:-//hacksw/handcal//NONSGML v1.0//EN
CALSCALE:GREGORIAN
BEGIN:VEVENT
DTEND:20250427T170000Z
UID: 69e695476dd13
DTSTAMP:20260420T160615Z
LOCATION:Anderson Pavilion
DESCRIPTION:A Day 4 RJ is an event featuring performances of The Turnaway Play\, The Vagina Monologues\, and a panel of faculty and community members working towards Reproductive Justice. The event will take place 12-6 p.m. in the Anderson Pavilion next to Brunner and also feature tables from student and community organizations dedicated to reproductive justice.Sponsored by A4RJ (Augustana for Reproductive Justice) and Feminist Theories with Jane Simonsen.
URL;VALUE=URI:https://www.augustana.edu/about-us/events/2025/a4rjs-day-4-rj
SUMMARY:A4RJ's Day 4 RJ
DTSTART:20250427T170000Z
END:VEVENT
END:VCALENDAR
