BEGIN:VCALENDAR
VERSION:2.0
PRODID:-//hacksw/handcal//NONSGML v1.0//EN
CALSCALE:GREGORIAN
BEGIN:VEVENT
DTEND:20250514T223000Z
UID: 69e993b247c78
DTSTAMP:20260422T223618Z
LOCATION:Denkmann Memorial Building
DESCRIPTION:Come and play Mahjong and eat great food from 5:30-6:30 p.m. on Wednesdays. We teach everyone how to play if they don't know. There is also a corresponding tournament.
URL;VALUE=URI:https://www.augustana.edu/about-us/events/2025/mahjong-club-meeting-1
SUMMARY:Mahjong Club meeting
DTSTART:20250514T223000Z
END:VEVENT
END:VCALENDAR
