BEGIN:VCALENDAR
VERSION:2.0
PRODID:-//hacksw/handcal//NONSGML v1.0//EN
CALSCALE:GREGORIAN
BEGIN:VEVENT
DTEND:20250303T000000Z
UID: 69e6805ed07f1
DTSTAMP:20260420T143702Z
LOCATION:Wallenberg Hall\, Denkmann Memorial Building
DESCRIPTION:Enjoy music\, games and food for a good cause!Come enjoy musical performances from Augustana students and faculty\, with a featured performance by Subatlantic. The event will support World Relief QC's effort to support refugees living in the Quad Cities!Presented by the Sociology/Anthropology Society and American Choral Directors Association.
URL;VALUE=URI:https://www.augustana.edu/about-us/events/2025/world-relief-benefit-concert
SUMMARY:World Relief benefit concert
DTSTART:20250303T000000Z
END:VEVENT
END:VCALENDAR
