BEGIN:VCALENDAR
VERSION:2.0
PRODID:-//hacksw/handcal//NONSGML v1.0//EN
CALSCALE:GREGORIAN
BEGIN:VEVENT
DTEND:20250226T010000Z
UID: 69e6956248363
DTSTAMP:20260420T160642Z
LOCATION:Carver P.E. Center
DESCRIPTION:The Augustana Vikings men's basketball team will play host to the Elmhurst Bluejays on Tuesday\, Feb. 25\, in the opening round of the CCIW Tournament.No passes accepted.
URL;VALUE=URI:https://www.augustana.edu/about-us/events/2025/mens-basketball-cciw-quarterfinals-vs-elmhurst
SUMMARY:Men's basketball CCIW Quarterfinals vs. Elmhurst
DTSTART:20250226T010000Z
END:VEVENT
END:VCALENDAR
