BEGIN:VCALENDAR
VERSION:2.0
PRODID:-//hacksw/handcal//NONSGML v1.0//EN
CALSCALE:GREGORIAN
BEGIN:VEVENT
DTEND:20250504T200000Z
UID: 69e68459ab615
DTSTAMP:20260420T145401Z
LOCATION:Centennial Hall
DESCRIPTION:The Augustana Oratorio Society\, Augustana Symphony Orchestra\, Augustana Choral Artists and Augustana Choir will perform the following works:"Chichester Psalms" by Leonard Bernstein\, performed by the Augustana Oratorio Society"Symphony no. 49 (La Passione)" by F.J. Haydn\, performed by the Augustana Symphony Orchestra"Sacred Places" by Alex Berko\, performed by the Augustana Choral Artists and Augustana Choir
URL;VALUE=URI:https://www.augustana.edu/about-us/events/2025/augustana-oratorio-society-concert
SUMMARY:Augustana Oratorio Society concert
DTSTART:20250504T200000Z
END:VEVENT
END:VCALENDAR
