BEGIN:VCALENDAR
VERSION:2.0
PRODID:-//hacksw/handcal//NONSGML v1.0//EN
CALSCALE:GREGORIAN
BEGIN:VEVENT
DTEND:20250207T230700Z
UID: 69e684ec4a252
DTSTAMP:20260420T145628Z
LOCATION:Galvin Fine Arts Center
DESCRIPTION:Professor Emeritus of Art Megan Quinn's work is featured in "Melting Point: Improvisations in the State of Clay\," an exhibition open through Feb. 28 at St. Ambrose University. A reception will be held&nbsp\;on Friday\, Feb. 7\, from 5-7 p.m. at the Catich Gallery inside the Galvin Fine Arts Building. The reception begins with a question-and-answer session.
URL;VALUE=URI:https://www.augustana.edu/about-us/events/2025/art-exhibit-reception-megan-quinn
SUMMARY:Art exhibit reception: Megan Quinn
DTSTART:20250207T230700Z
END:VEVENT
END:VCALENDAR
