BEGIN:VCALENDAR
VERSION:2.0
PRODID:-//hacksw/handcal//NONSGML v1.0//EN
CALSCALE:GREGORIAN
BEGIN:VEVENT
DTEND:20250511T210000Z
UID: 69e684be6f974
DTSTAMP:20260420T145542Z
LOCATION:Centennial Hall
DESCRIPTION:The Augustana Concert Band will perform\, directed by Dr. Tony Oliver.
URL;VALUE=URI:https://www.augustana.edu/about-us/events/2025/augustana-concert-band-concert-0
SUMMARY:Augustana Concert Band concert
DTSTART:20250511T210000Z
END:VEVENT
END:VCALENDAR
