BEGIN:VCALENDAR
VERSION:2.0
PRODID:-//hacksw/handcal//NONSGML v1.0//EN
CALSCALE:GREGORIAN
BEGIN:VEVENT
DTEND:20250427T210000Z
UID: 69e6844587e5f
DTSTAMP:20260420T145341Z
LOCATION:Wallenberg Hall\, Denkmann Memorial Building
DESCRIPTION:The Augustana Flute and Clarinet Choir will perform.
URL;VALUE=URI:https://www.augustana.edu/about-us/events/2025/augustana-flute-and-clarinet-choir-concert
SUMMARY:Augustana Flute and Clarinet Choir concert
DTSTART:20250427T210000Z
END:VEVENT
END:VCALENDAR
