BEGIN:VCALENDAR
VERSION:2.0
PRODID:-//hacksw/handcal//NONSGML v1.0//EN
CALSCALE:GREGORIAN
BEGIN:VEVENT
DTEND:20250427T200000Z
UID: 69e68460802cc
DTSTAMP:20260420T145408Z
LOCATION:Ascension Chapel
DESCRIPTION:The Augustana Chamber Singers Choir and Bell Choir will perform.
URL;VALUE=URI:https://www.augustana.edu/about-us/events/2025/augustana-chamber-singers-and-bell-ringers-concert
SUMMARY:Augustana Chamber Singers and Bell Choir
DTSTART:20250427T200000Z
END:VEVENT
END:VCALENDAR
