BEGIN:VCALENDAR
VERSION:2.0
PRODID:-//hacksw/handcal//NONSGML v1.0//EN
CALSCALE:GREGORIAN
BEGIN:VEVENT
DTEND:20250427T000000Z
UID: 69e69561f2263
DTSTAMP:20260420T160641Z
LOCATION:Brunner Theatre Center
DESCRIPTION:Students will perform solos and ensemble numbers\, everything from pop\, and a cappella to musical theater to jazz.&nbsp\;
URL;VALUE=URI:https://www.augustana.edu/about-us/events/2025/cabaret-night
SUMMARY:Cabaret Night
DTSTART:20250427T000000Z
END:VEVENT
END:VCALENDAR
