BEGIN:VCALENDAR
VERSION:2.0
PRODID:-//hacksw/handcal//NONSGML v1.0//EN
CALSCALE:GREGORIAN
BEGIN:VEVENT
DTEND:20250426T190000Z
UID: 69e683f174afe
DTSTAMP:20260420T145217Z
LOCATION:Centennial Hall
DESCRIPTION:The Jenny Lind Vocal Ensemble and Concert Chorale will perform\, directed by Dr. Michael Zemek and Benjamin Holmes.
URL;VALUE=URI:https://www.augustana.edu/about-us/events/2025/jenny-lind-vocal-ensemble-and-concert-chorale-concert
SUMMARY:Jenny Lind Vocal Ensemble and Concert Chorale concert
DTSTART:20250426T190000Z
END:VEVENT
END:VCALENDAR
