BEGIN:VCALENDAR
VERSION:2.0
PRODID:-//hacksw/handcal//NONSGML v1.0//EN
CALSCALE:GREGORIAN
BEGIN:VEVENT
DTEND:20250426T003000Z
UID: 69e684607c3bb
DTSTAMP:20260420T145408Z
LOCATION:Centennial Hall
DESCRIPTION:The Augustana Jazz Ensemble will perform\, directed by Dr. Joel Linscheid.
URL;VALUE=URI:https://www.augustana.edu/about-us/events/2025/augustana-jazz-ensemble-concert-0
SUMMARY:Augustana Jazz Ensemble concert
DTSTART:20250426T003000Z
END:VEVENT
END:VCALENDAR
