BEGIN:VCALENDAR
VERSION:2.0
PRODID:-//hacksw/handcal//NONSGML v1.0//EN
CALSCALE:GREGORIAN
BEGIN:VEVENT
DTEND:20250319T003000Z
UID: 69e680a83e945
DTSTAMP:20260420T143816Z
LOCATION:Wallenberg Hall\, Denkmann Memorial Building
DESCRIPTION:The Augustana Jazz Combo will perform\, directed by Dr. Joel Linscheid.
URL;VALUE=URI:https://www.augustana.edu/about-us/events/2025/augustana-jazz-combo-concert
SUMMARY:Augustana Jazz Combo concert
DTSTART:20250319T003000Z
END:VEVENT
END:VCALENDAR
