BEGIN:VCALENDAR
VERSION:2.0
PRODID:-//hacksw/handcal//NONSGML v1.0//EN
CALSCALE:GREGORIAN
BEGIN:VEVENT
DTEND:20250317T000000Z
UID: 69e69563478a8
DTSTAMP:20260420T160643Z
LOCATION:Centennial Hall
DESCRIPTION:The Augustana Percussion Ensemble will perform\, directed by Dr. Tony Oliver.
URL;VALUE=URI:https://www.augustana.edu/about-us/events/2025/augustana-percussion-ensemble-concert
SUMMARY:Augustana Percussion Ensemble concert
DTSTART:20250317T000000Z
END:VEVENT
END:VCALENDAR
