BEGIN:VCALENDAR
VERSION:2.0
PRODID:-//hacksw/handcal//NONSGML v1.0//EN
CALSCALE:GREGORIAN
BEGIN:VEVENT
DTEND:20250308T013000Z
UID: 69e680bd4a0d6
DTSTAMP:20260420T143837Z
LOCATION:Centennial Hall
DESCRIPTION:The Augustana Jazz Ensemble will perform\, directed by Dr. Joel Linscheid.
URL;VALUE=URI:https://www.augustana.edu/about-us/events/2025/augustana-jazz-ensemble-concert
SUMMARY:Augustana Jazz Ensemble concert
DTSTART:20250308T013000Z
END:VEVENT
END:VCALENDAR
