BEGIN:VCALENDAR
VERSION:2.0
PRODID:-//hacksw/handcal//NONSGML v1.0//EN
CALSCALE:GREGORIAN
BEGIN:VEVENT
DTEND:20250404T000000Z
UID: 69e69b21dc654
DTSTAMP:20260420T163113Z
LOCATION:Olin Center for Educational Technology
DESCRIPTION:
URL;VALUE=URI:https://www.augustana.edu/about-us/events/2025/stone-lecture-navigating-history-civil-rights-jews-selma-alabama
SUMMARY:Stone Lecture: 'Navigating History: Civil Rights & the Jews of Selma\, Alabama'
DTSTART:20250404T000000Z
END:VEVENT
END:VCALENDAR
