BEGIN:VCALENDAR
VERSION:2.0
PRODID:-//hacksw/handcal//NONSGML v1.0//EN
CALSCALE:GREGORIAN
BEGIN:VEVENT
DTEND:20250120T180000Z
UID: 69e69ac356c97
DTSTAMP:20260420T162939Z
LOCATION:The Gerber Center for Student Life
DESCRIPTION:Join us 12-1:30 p.m. for a panel discussion\, "Empowering Communities\, Shaping Our Future\," featuring inspiring community leaders whose work exemplifies Dr. Martin Luther King Jr.'s legacy of service\, justice\, and empowerment.Through engaging stories and thoughtful dialogue\, our panelists will share how they have turned inspiration into meaningful action to create positive change in their communities. Be part of this impactful conversation and leave empowered to use your unique talents and passions to make a difference\, serve others\, uplift your community and advocate for justice.ModeratorDr. Wolff\, Associate Professor of ReligionPanelists&nbsp\;Avery Pearl '18 (West End Revitalization Coordinator\, MLK Center)Tee LeShoure (Community Violence Intervention and Engagement Director\, Family Resources\; Founder\, Tee It Up\; President\, QC Pride Board)Julie Larson (President and CEO\, YWCA Quad Cities)Jen Osing '14 (Executive Director\, World Relief Quad Cities)
URL;VALUE=URI:https://www.augustana.edu/about-us/events/2025/mlk-day-keynote-empowering-communities-and-shaping-our-future
SUMMARY:MLK Day keynote: 'Empowering Communities and Shaping Our Future'
DTSTART:20250120T180000Z
END:VEVENT
END:VCALENDAR
