BEGIN:VCALENDAR
VERSION:2.0
PRODID:-//hacksw/handcal//NONSGML v1.0//EN
CALSCALE:GREGORIAN
BEGIN:VEVENT
DTEND:20250321T000000Z
UID: 69e69ae3b714e
DTSTAMP:20260420T163011Z
LOCATION:Wallenberg Hall\, Denkmann Memorial Building
DESCRIPTION:The Augustana Chamber Orchestra will perform.
URL;VALUE=URI:https://www.augustana.edu/about-us/events/2025/augustana-chamber-orchestra-concert
SUMMARY:Augustana Chamber Orchestra Concert
DTSTART:20250321T000000Z
END:VEVENT
END:VCALENDAR
