BEGIN:VCALENDAR
VERSION:2.0
PRODID:-//hacksw/handcal//NONSGML v1.0//EN
CALSCALE:GREGORIAN
BEGIN:VEVENT
DTEND:20241202T230000Z
UID: 69e69580a2c81
DTSTAMP:20260420T160712Z
LOCATION:The Gerber Center for Student Life
DESCRIPTION:Enjoy traditional Swedish-American Christmas smörgåsbord fare and support the Swenson Center! The event runs from 5-6:30 p.m. Guests may arrive at any time.Buffet items include salads\, relishes\, fruit\, herring\, bread\, cheese\, potatoes\, salmon\, potato sausage\, meatballs\, rice pudding and Christmas desserts. RSVP by Thursday\, Nov. 21\, at noon.After dinner\, the free annual Sankta Lucia Festival begins at 7 p.m. in nearby Ascension Chapel\, 820 38th Street. Students will perform traditional Swedish and Swedish-American songs and readings.&nbsp\;→ Learn more and RSVP
URL;VALUE=URI:https://www.augustana.edu/about-us/events/2024/swenson-center-julbord-dinner
SUMMARY:Swenson Center Julbord Dinner
DTSTART:20241202T230000Z
END:VEVENT
END:VCALENDAR
