BEGIN:VCALENDAR
VERSION:2.0
PRODID:-//hacksw/handcal//NONSGML v1.0//EN
CALSCALE:GREGORIAN
BEGIN:VEVENT
DTEND:20241123T160000Z
UID: 69e695484499b
DTSTAMP:20260420T160616Z
LOCATION:Wallenberg Hall\, Denkmann Memorial Building
DESCRIPTION:Dr. James Lambrecht\, Professor\, Co-Chair\, Director of Bands\, Augustana Symphonic Band\, trumpet\, conducting\, will present on the history of wind bands at Augustana as part of the Augustana Symphonic Band's sesquicentennial celebration.
URL;VALUE=URI:https://www.augustana.edu/about-us/events/2024/presentation-history-wind-bands-augustana-college
SUMMARY:Presentation: 'History of Wind Bands at Augustana College'
DTSTART:20241123T160000Z
END:VEVENT
END:VCALENDAR
