BEGIN:VCALENDAR
VERSION:2.0
PRODID:-//hacksw/handcal//NONSGML v1.0//EN
CALSCALE:GREGORIAN
BEGIN:VEVENT
DTEND:20241125T230000Z
UID: 69e694d4eec0f
DTSTAMP:20260420T160420Z
LOCATION:Wallenberg Hall\, Denkmann Memorial Building
DESCRIPTION:
URL;VALUE=URI:https://www.augustana.edu/about-us/events/2024/guest-piano-trio-recital-trio
SUMMARY:Faculty and guest piano trio recital: 'Trio IN'
DTSTART:20241125T230000Z
END:VEVENT
END:VCALENDAR
