BEGIN:VCALENDAR
VERSION:2.0
PRODID:-//hacksw/handcal//NONSGML v1.0//EN
CALSCALE:GREGORIAN
BEGIN:VEVENT
DTEND:20241114T010000Z
UID: 69e69532df848
DTSTAMP:20260420T160554Z
LOCATION:Hanson Hall of Science
DESCRIPTION:Augustana College will sponsor its 28th annual Hispanic Film Festival on Wednesdays\, Oct. 30-Nov. 20.All films will be shown at 7 p.m. in Hanson Hall of Science\, Room 102. Films are free and open to the public. Films are in Spanish with English subtitles.Film: "Medianeras" ("Sidewalls")Director: Gustavo TarettoYear:&nbsp\;2011Genre:&nbsp\;Comedy-romanceRuntime: 1h 35minRating: PG-13Best Film - Latin Film CompetitionPlot summary:&nbsp\;"Medianeras" is the story of Mariana\, Martín and the city. Martín and Mariana live on the same block\, in opposite buildings. But they don’t manage to meet each other. They cross each other\, not knowing about the other’s existence.
URL;VALUE=URI:https://www.augustana.edu/about-us/events/2024/hispanic-film-festival-medianeras
SUMMARY:Hispanic Film Festival: 'Medianeras'
DTSTART:20241114T010000Z
END:VEVENT
END:VCALENDAR
