BEGIN:VCALENDAR
VERSION:2.0
PRODID:-//hacksw/handcal//NONSGML v1.0//EN
CALSCALE:GREGORIAN
BEGIN:VEVENT
DTEND:20241107T010000Z
UID: 69e6949e18cad
DTSTAMP:20260420T160326Z
LOCATION:Hanson Hall of Science
DESCRIPTION:Augustana College will sponsor its 28th annual Hispanic Film Festival on Wednesdays\, Oct. 30-Nov. 20.All films will be shown at 7 p.m. in Hanson Hall of Science\, Room 102. Films are free and open to the public. Films are in Spanish with English subtitles.Film: "El lugar de la otra" ("In her place")Director: Maite AlberdiYear:&nbsp\;2024Genre:&nbsp\;Comedy-drama-historyRuntime: 1h 29minRating: PG-13Chilean Oscar submissionPlot summary:&nbsp\;Based on a real murder in Chile in the 1950s\, this fictional story of obsession has glamour and style. it is the case of María Carolina Geel\, a popular writer who murders her lover\, captivates Mercedes\, a shy secretary working for the judge assigned to defend the accused.
URL;VALUE=URI:https://www.augustana.edu/about-us/events/2024/hispanic-film-festival-el-lugar-de-la-otra
SUMMARY:Hispanic Film Festival: 'El lugar de la otra'
DTSTART:20241107T010000Z
END:VEVENT
END:VCALENDAR
