BEGIN:VCALENDAR
VERSION:2.0
PRODID:-//hacksw/handcal//NONSGML v1.0//EN
CALSCALE:GREGORIAN
BEGIN:VEVENT
DTEND:20241016T180000Z
UID: 69e6952429ae2
DTSTAMP:20260420T160540Z
LOCATION:The Gerber Center for Student Life
DESCRIPTION:
URL;VALUE=URI:https://www.augustana.edu/about-us/events/2024/international-pronoun-day
SUMMARY:International Pronoun Day
DTSTART:20241016T180000Z
END:VEVENT
END:VCALENDAR
