BEGIN:VCALENDAR
VERSION:2.0
PRODID:-//hacksw/handcal//NONSGML v1.0//EN
CALSCALE:GREGORIAN
BEGIN:VEVENT
DTEND:20241002T140000Z
UID: 69e69523ceca0
DTSTAMP:20260420T160539Z
LOCATION:The Gerber Center for Student Life
DESCRIPTION:The League of Women Voters will be registering U.S. citizens to vote from 9 a.m.-12:15 p.m. and again from 1-2 p.m. in the Tredway Library hallway lounge on the second floor of the Gerber Center (by the dinosaur head).Individuals will need to bring two forms of ID\, including one with their current address. IDs with address can include U.S. mail\, bills\, banking\, etc. Rental info and billing info from phones are also acceptable.The League of Women Voters of Illinois is a nonpartisan organization that works to protect fair elections and increase civic engagement.
URL;VALUE=URI:https://www.augustana.edu/about-us/events/2024/voter-registration
SUMMARY:Voter registration
DTSTART:20241002T140000Z
END:VEVENT
END:VCALENDAR
