BEGIN:VCALENDAR
VERSION:2.0
PRODID:-//hacksw/handcal//NONSGML v1.0//EN
CALSCALE:GREGORIAN
BEGIN:VEVENT
DTEND:20241208T010000Z
UID: 69e694dbca18c
DTSTAMP:20260420T160427Z
LOCATION:The Gerber Center for Student Life
DESCRIPTION:The Augustana Jazz Ensemble and new Jazz Lab Band will perform\, directed by Dr. Joel Linscheid.The Augustana Jazz Lab Band will perform several pieces\, including "O' Christmas Tree".The Augustana Jazz Ensemble will perform a swingin' set that will include "Let is Snow"\, "Have yourself a Merry Little Christmas"\, selections from "The Nutcracker" and "Jingle Bells".
URL;VALUE=URI:https://www.augustana.edu/about-us/events/2024/jazz-ensemble-christmas-concert
SUMMARY:Jazz ensemble Christmas concert
DTSTART:20241208T010000Z
END:VEVENT
END:VCALENDAR
